BEGIN:VCALENDAR
VERSION:2.0
PRODID:-//eventon.com NONSGML v1.0//EN
CALSCALE:GREGORIAN
METHOD:PUBLISH
BEGIN:VEVENT
UID:69e4cb2b85b9e
DTSTAMP:20260419T123139Z
DTSTART:20240404T080000Z
DTEND:20240404T090000Z
LOCATION:https://us02web.zoom.us/webinar/register/WN_4qPGJbA2Qi2c230q2j97pg
SUMMARY:Heiz-\,  Kühlsegel mit Fensterlüftung
DESCRIPTION:ZielgruppeFachplaner\,  Architekten\,  Bauherrn und Installatio
 nsbetriebe Inhalte Der Taupunkt ist die Leistungsbremse konventioneller Kli
 madecken bzw. Flächenkühlsysteme.Sie erfahren\,  wie interpanel® diese P
 roblematik auf einzigartige Weise löst und neue Anwendungen ermöglicht. V
 oraussetzungenkeine Dauerca. 45 Minuten mit Beantwortung aufkommender Frage
 n OrtDas Webinar findet live am eigenen Arbeitsplatz statt. Technische Vora
 ussetzung&nbsp;Sie benötigen einen Internetzugang. Die[..]\nhttps://www.in
 terpanel.com/events/kuehlsegel-mit-fensterlueftung/var/event_access
URL:https://www.interpanel.com/events/kuehlsegel-mit-fensterlueftung/var/event_access
END:VEVENT
END:VCALENDAR